BEGIN:VCALENDAR
VERSION:2.0
PRODID:-//Marktgemeinde Grossdietmanns - ECPv6.15.17.1//NONSGML v1.0//EN
CALSCALE:GREGORIAN
METHOD:PUBLISH
X-ORIGINAL-URL:https://www.grossdietmanns.gv.at
X-WR-CALDESC:Veranstaltungen für Marktgemeinde Grossdietmanns
REFRESH-INTERVAL;VALUE=DURATION:PT1H
X-Robots-Tag:noindex
X-PUBLISHED-TTL:PT1H
BEGIN:VTIMEZONE
TZID:Europe/Berlin
BEGIN:DAYLIGHT
TZOFFSETFROM:+0100
TZOFFSETTO:+0200
TZNAME:CEST
DTSTART:20240331T010000
END:DAYLIGHT
BEGIN:STANDARD
TZOFFSETFROM:+0200
TZOFFSETTO:+0100
TZNAME:CET
DTSTART:20241027T010000
END:STANDARD
BEGIN:DAYLIGHT
TZOFFSETFROM:+0100
TZOFFSETTO:+0200
TZNAME:CEST
DTSTART:20250330T010000
END:DAYLIGHT
BEGIN:STANDARD
TZOFFSETFROM:+0200
TZOFFSETTO:+0100
TZNAME:CET
DTSTART:20251026T010000
END:STANDARD
BEGIN:DAYLIGHT
TZOFFSETFROM:+0100
TZOFFSETTO:+0200
TZNAME:CEST
DTSTART:20260329T010000
END:DAYLIGHT
BEGIN:STANDARD
TZOFFSETFROM:+0200
TZOFFSETTO:+0100
TZNAME:CET
DTSTART:20261025T010000
END:STANDARD
END:VTIMEZONE
BEGIN:VEVENT
DTSTART;TZID=Europe/Berlin:20251227T160000
DTEND;TZID=Europe/Berlin:20251227T230000
DTSTAMP:20260419T193318
CREATED:20241104T090613Z
LAST-MODIFIED:20251119T074222Z
UID:10000756-1766851200-1766876400@www.grossdietmanns.gv.at
SUMMARY:Punschstand der FF-Wielands
DESCRIPTION:
URL:https://www.grossdietmanns.gv.at/termin/2-gluehpunschstand-der-ff-wielands/
LOCATION:Dorfhaus Wielands\, Wielands 21\, Wielands\, Niederösterreich\, 3950\, Österreich
CATEGORIES:Veranstaltungen
ATTACH;FMTTYPE=image/jpeg:https://www.grossdietmanns.gv.at/vvs/wp-content/uploads/2024/11/christmas-drink-6876097_1920_72dpi.jpg
ORGANIZER;CN="FF Wielands":MAILTO:webmaster@dev-wielands.net
END:VEVENT
BEGIN:VEVENT
DTSTART;TZID=Europe/Berlin:20250914T100000
DTEND;TZID=Europe/Berlin:20250914T180000
DTSTAMP:20260419T193318
CREATED:20240626T081623Z
LAST-MODIFIED:20250729T122302Z
UID:10000725-1757844000-1757872800@www.grossdietmanns.gv.at
SUMMARY:Schnitzelkirtag der FF Wielands
DESCRIPTION:
URL:https://www.grossdietmanns.gv.at/termin/schnitzelkirtag-der-ff-wielands/
LOCATION:Dorfhaus Wielands\, Wielands 21\, Wielands\, Niederösterreich\, 3950\, Österreich
CATEGORIES:Veranstaltungen
ATTACH;FMTTYPE=image/jpeg:https://www.grossdietmanns.gv.at/vvs/wp-content/uploads/2024/06/Schnitzel_schnipo-1837703_1920_72dpi.jpg
ORGANIZER;CN="FF Wielands":MAILTO:webmaster@dev-wielands.net
END:VEVENT
END:VCALENDAR