BEGIN:VCALENDAR
VERSION:2.0
PRODID:-//Marktgemeinde Grossdietmanns - ECPv6.15.17.1//NONSGML v1.0//EN
CALSCALE:GREGORIAN
METHOD:PUBLISH
X-WR-CALNAME:Marktgemeinde Grossdietmanns
X-ORIGINAL-URL:https://www.grossdietmanns.gv.at
X-WR-CALDESC:Veranstaltungen für Marktgemeinde Grossdietmanns
REFRESH-INTERVAL;VALUE=DURATION:PT1H
X-Robots-Tag:noindex
X-PUBLISHED-TTL:PT1H
BEGIN:VTIMEZONE
TZID:Europe/Berlin
BEGIN:DAYLIGHT
TZOFFSETFROM:+0100
TZOFFSETTO:+0200
TZNAME:CEST
DTSTART:20240331T010000
END:DAYLIGHT
BEGIN:STANDARD
TZOFFSETFROM:+0200
TZOFFSETTO:+0100
TZNAME:CET
DTSTART:20241027T010000
END:STANDARD
BEGIN:DAYLIGHT
TZOFFSETFROM:+0100
TZOFFSETTO:+0200
TZNAME:CEST
DTSTART:20250330T010000
END:DAYLIGHT
BEGIN:STANDARD
TZOFFSETFROM:+0200
TZOFFSETTO:+0100
TZNAME:CET
DTSTART:20251026T010000
END:STANDARD
BEGIN:DAYLIGHT
TZOFFSETFROM:+0100
TZOFFSETTO:+0200
TZNAME:CEST
DTSTART:20260329T010000
END:DAYLIGHT
BEGIN:STANDARD
TZOFFSETFROM:+0200
TZOFFSETTO:+0100
TZNAME:CET
DTSTART:20261025T010000
END:STANDARD
END:VTIMEZONE
BEGIN:VEVENT
DTSTART;TZID=Europe/Berlin:20251207T210000
DTEND;TZID=Europe/Berlin:20251207T233000
DTSTAMP:20260419T173947
CREATED:20230829T155432Z
LAST-MODIFIED:20251119T080732Z
UID:10000515-1765141200-1765150200@www.grossdietmanns.gv.at
SUMMARY:"XMAS BASH"
DESCRIPTION:Der mittlerweile legendären „XMAS BASH“ geht am Sonntag\, 07.12.25 ab 21 Uhr in der Festhalle in Hörmanns in die nächste Runde.
URL:https://www.grossdietmanns.gv.at/termin/xmas-bahs/
LOCATION:Friedenshalle Hörmanns\, Hörmanns bei Weitra\, Niederösterreich\, 3961\, Österreich
CATEGORIES:Veranstaltungen
ORGANIZER;CN="FF H%C3%B6rmanns":MAILTO:markus.haumer@feuerwehr.gv.at
END:VEVENT
BEGIN:VEVENT
DTSTART;TZID=Europe/Berlin:20250907T090000
DTEND;TZID=Europe/Berlin:20250907T160000
DTSTAMP:20260419T173947
CREATED:20250730T092254Z
LAST-MODIFIED:20250730T092254Z
UID:10000892-1757235600-1757260800@www.grossdietmanns.gv.at
SUMMARY:Feurerwehrfest der FF Hörmanns
DESCRIPTION:Beginn mit Festmesse um 9:00 Uhr \nFrühschoppen ab 10:00 Uhr
URL:https://www.grossdietmanns.gv.at/termin/feurerwehrfest-der-ff-hoermanns/
LOCATION:Friedenshalle Hörmanns\, Hörmanns bei Weitra\, Niederösterreich\, 3961\, Österreich
CATEGORIES:Veranstaltungen
ATTACH;FMTTYPE=image/jpeg:https://www.grossdietmanns.gv.at/vvs/wp-content/uploads/2023/06/Fest_flags-g542b67ea7_1280_bear.jpg
ORGANIZER;CN="FF H%C3%B6rmanns":MAILTO:markus.haumer@feuerwehr.gv.at
END:VEVENT
END:VCALENDAR