BEGIN:VCALENDAR
VERSION:2.0
PRODID:-//Marktgemeinde Grossdietmanns - ECPv6.15.17.1//NONSGML v1.0//EN
CALSCALE:GREGORIAN
METHOD:PUBLISH
X-WR-CALNAME:Marktgemeinde Grossdietmanns
X-ORIGINAL-URL:https://www.grossdietmanns.gv.at
X-WR-CALDESC:Veranstaltungen für Marktgemeinde Grossdietmanns
REFRESH-INTERVAL;VALUE=DURATION:PT1H
X-Robots-Tag:noindex
X-PUBLISHED-TTL:PT1H
BEGIN:VTIMEZONE
TZID:Europe/Berlin
BEGIN:DAYLIGHT
TZOFFSETFROM:+0100
TZOFFSETTO:+0200
TZNAME:CEST
DTSTART:20240331T010000
END:DAYLIGHT
BEGIN:STANDARD
TZOFFSETFROM:+0200
TZOFFSETTO:+0100
TZNAME:CET
DTSTART:20241027T010000
END:STANDARD
BEGIN:DAYLIGHT
TZOFFSETFROM:+0100
TZOFFSETTO:+0200
TZNAME:CEST
DTSTART:20250330T010000
END:DAYLIGHT
BEGIN:STANDARD
TZOFFSETFROM:+0200
TZOFFSETTO:+0100
TZNAME:CET
DTSTART:20251026T010000
END:STANDARD
BEGIN:DAYLIGHT
TZOFFSETFROM:+0100
TZOFFSETTO:+0200
TZNAME:CEST
DTSTART:20260329T010000
END:DAYLIGHT
BEGIN:STANDARD
TZOFFSETFROM:+0200
TZOFFSETTO:+0100
TZNAME:CET
DTSTART:20261025T010000
END:STANDARD
END:VTIMEZONE
BEGIN:VEVENT
DTSTART;TZID=Europe/Berlin:20250620T180000
DTEND;TZID=Europe/Berlin:20250620T233000
DTSTAMP:20260420T163021
CREATED:20240526T165543Z
LAST-MODIFIED:20250513T132745Z
UID:10000715-1750442400-1750462200@www.grossdietmanns.gv.at
SUMMARY:Sonnwendfeier in Höhenberg
DESCRIPTION:
URL:https://www.grossdietmanns.gv.at/termin/sonnwendfeier-in-hoehenberg/
LOCATION:Niederösterreich
CATEGORIES:Veranstaltungen
ORGANIZER;CN="Dorfleben Aktiv H%C3%B6henberg":MAILTO:dorfleben.aktiv.hb@gmail.com
END:VEVENT
BEGIN:VEVENT
DTSTART;VALUE=DATE:20250621
DTEND;VALUE=DATE:20250623
DTSTAMP:20260420T163021
CREATED:20250513T132323Z
LAST-MODIFIED:20250513T132323Z
UID:10000483-1750464000-1750636799@www.grossdietmanns.gv.at
SUMMARY:FF-Fest Unterlembach
DESCRIPTION:
URL:https://www.grossdietmanns.gv.at/termin/ff-fest-unterlembach-3/
LOCATION:Niederösterreich
CATEGORIES:Veranstaltungen
ORGANIZER;CN="FF Unterlembach":MAILTO:info@ff-unterlembach.at
END:VEVENT
END:VCALENDAR