BEGIN:VCALENDAR
VERSION:2.0
PRODID:-//Marktgemeinde Grossdietmanns - ECPv6.15.17.1//NONSGML v1.0//EN
CALSCALE:GREGORIAN
METHOD:PUBLISH
X-WR-CALNAME:Marktgemeinde Grossdietmanns
X-ORIGINAL-URL:https://www.grossdietmanns.gv.at
X-WR-CALDESC:Veranstaltungen für Marktgemeinde Grossdietmanns
REFRESH-INTERVAL;VALUE=DURATION:PT1H
X-Robots-Tag:noindex
X-PUBLISHED-TTL:PT1H
BEGIN:VTIMEZONE
TZID:Europe/Berlin
BEGIN:DAYLIGHT
TZOFFSETFROM:+0100
TZOFFSETTO:+0200
TZNAME:CEST
DTSTART:20240331T010000
END:DAYLIGHT
BEGIN:STANDARD
TZOFFSETFROM:+0200
TZOFFSETTO:+0100
TZNAME:CET
DTSTART:20241027T010000
END:STANDARD
BEGIN:DAYLIGHT
TZOFFSETFROM:+0100
TZOFFSETTO:+0200
TZNAME:CEST
DTSTART:20250330T010000
END:DAYLIGHT
BEGIN:STANDARD
TZOFFSETFROM:+0200
TZOFFSETTO:+0100
TZNAME:CET
DTSTART:20251026T010000
END:STANDARD
BEGIN:DAYLIGHT
TZOFFSETFROM:+0100
TZOFFSETTO:+0200
TZNAME:CEST
DTSTART:20260329T010000
END:DAYLIGHT
BEGIN:STANDARD
TZOFFSETFROM:+0200
TZOFFSETTO:+0100
TZNAME:CET
DTSTART:20261025T010000
END:STANDARD
END:VTIMEZONE
BEGIN:VEVENT
DTSTART;TZID=Europe/Berlin:20250809T150000
DTEND;TZID=Europe/Berlin:20250809T200000
DTSTAMP:20260419T220207
CREATED:20240626T065916Z
LAST-MODIFIED:20250513T142947Z
UID:10000721-1754751600-1754769600@www.grossdietmanns.gv.at
SUMMARY:Familienfest des Verschönerungsvereins Dietmanns
DESCRIPTION:
URL:https://www.grossdietmanns.gv.at/termin/familienfest-des-verschoenerungsvereins-dietmanns/
LOCATION:Sportplatz Dietmanns\, Kindergartenstraße 3\, 3950 Dietmanns
CATEGORIES:Veranstaltungen
ATTACH;FMTTYPE=image/jpeg:https://www.grossdietmanns.gv.at/vvs/wp-content/uploads/2023/06/Fest_flags-g542b67ea7_1280_bear.jpg
END:VEVENT
BEGIN:VEVENT
DTSTART;TZID=Europe/Berlin:20250827T150000
DTEND;TZID=Europe/Berlin:20250827T153000
DTSTAMP:20260419T220207
CREATED:20201222T092211Z
LAST-MODIFIED:20250102T124237Z
UID:10000838-1756306800-1756308600@www.grossdietmanns.gv.at
SUMMARY:Silofoliensammlung
DESCRIPTION:von 15:00 bis 15:30 Uhr im Altstoffsammelzentrum Eichberg
URL:https://www.grossdietmanns.gv.at/termin/silofoliensammlung-2/2025-08-27/
LOCATION:Bauhof Eichberg\, Eichberg 82\, Eichberg\, Niederösterreich\, 3950\, Österreich
CATEGORIES:Müllabfuhr-Kalender
END:VEVENT
BEGIN:VEVENT
DTSTART;TZID=Europe/Berlin:20250831T083000
DTEND;TZID=Europe/Berlin:20250831T203000
DTSTAMP:20260419T220207
CREATED:20230824T151613Z
LAST-MODIFIED:20250602T063115Z
UID:10000504-1756629000-1756672200@www.grossdietmanns.gv.at
SUMMARY:ÖKB Frühschoppen mit Festmesse
DESCRIPTION:
URL:https://www.grossdietmanns.gv.at/termin/oekb-fruehschoppen-mit-festmesse/
LOCATION:Brucknerhalle\, Dechant-Hauer-Str. 50\, 3950 Dietmanns\, Österreich
CATEGORIES:Veranstaltungen
ATTACH;FMTTYPE=image/jpeg:https://www.grossdietmanns.gv.at/vvs/wp-content/uploads/2024/02/Fest_drink-ge3b29ee5c_1920_72dpi.jpg
ORGANIZER;CN="%C3%96KB Dietmanns u. Umgebung":MAILTO:gerhard.bruckner@aon.at
END:VEVENT
END:VCALENDAR