BEGIN:VCALENDAR
VERSION:2.0
PRODID:-//Marktgemeinde Grossdietmanns - ECPv6.15.17.1//NONSGML v1.0//EN
CALSCALE:GREGORIAN
METHOD:PUBLISH
X-WR-CALNAME:Marktgemeinde Grossdietmanns
X-ORIGINAL-URL:https://www.grossdietmanns.gv.at
X-WR-CALDESC:Veranstaltungen für Marktgemeinde Grossdietmanns
REFRESH-INTERVAL;VALUE=DURATION:PT1H
X-Robots-Tag:noindex
X-PUBLISHED-TTL:PT1H
BEGIN:VTIMEZONE
TZID:Europe/Berlin
BEGIN:DAYLIGHT
TZOFFSETFROM:+0100
TZOFFSETTO:+0200
TZNAME:CEST
DTSTART:20240331T010000
END:DAYLIGHT
BEGIN:STANDARD
TZOFFSETFROM:+0200
TZOFFSETTO:+0100
TZNAME:CET
DTSTART:20241027T010000
END:STANDARD
BEGIN:DAYLIGHT
TZOFFSETFROM:+0100
TZOFFSETTO:+0200
TZNAME:CEST
DTSTART:20250330T010000
END:DAYLIGHT
BEGIN:STANDARD
TZOFFSETFROM:+0200
TZOFFSETTO:+0100
TZNAME:CET
DTSTART:20251026T010000
END:STANDARD
BEGIN:DAYLIGHT
TZOFFSETFROM:+0100
TZOFFSETTO:+0200
TZNAME:CEST
DTSTART:20260329T010000
END:DAYLIGHT
BEGIN:STANDARD
TZOFFSETFROM:+0200
TZOFFSETTO:+0100
TZNAME:CET
DTSTART:20261025T010000
END:STANDARD
END:VTIMEZONE
BEGIN:VEVENT
DTSTART;TZID=Europe/Berlin:20250524T140000
DTEND;TZID=Europe/Berlin:20250525T010000
DTSTAMP:20260419T160322
CREATED:20240319T121607Z
LAST-MODIFIED:20250513T144204Z
UID:10000704-1748095200-1748134800@www.grossdietmanns.gv.at
SUMMARY:Motorradtreffen vom Verein "The Aimless MC Austria"
DESCRIPTION:
URL:https://www.grossdietmanns.gv.at/termin/motorradtreffen-vom-verein-the-aimless-mc-austria/
LOCATION:Bauhof Eichberg\, Eichberg 82\, Eichberg\, Niederösterreich\, 3950\, Österreich
CATEGORIES:Veranstaltungen
ATTACH;FMTTYPE=image/jpeg:https://www.grossdietmanns.gv.at/vvs/wp-content/uploads/2024/06/Motorrad_bike-7227036_1920_72dpi.jpg
ORGANIZER;CN="MC The Aimless Austria":MAILTO:mctheaimless@gmx.at
END:VEVENT
END:VCALENDAR